BEGIN:VCALENDAR
VERSION:2.0
PRODID:-//Fertilizer Producers &amp; Suppliers Association of Nigeria (FEPSAN) - ECPv5.2.1//NONSGML v1.0//EN
CALSCALE:GREGORIAN
METHOD:PUBLISH
X-WR-CALNAME:Fertilizer Producers &amp; Suppliers Association of Nigeria (FEPSAN)
X-ORIGINAL-URL:https://fepsan.org
X-WR-CALDESC:Events for Fertilizer Producers &amp; Suppliers Association of Nigeria (FEPSAN)
BEGIN:VTIMEZONE
TZID:UTC
BEGIN:STANDARD
TZOFFSETFROM:+0000
TZOFFSETTO:+0000
TZNAME:UTC
DTSTART:20250101T000000
END:STANDARD
END:VTIMEZONE
BEGIN:VEVENT
DTSTART;TZID=UTC:20250508T080000
DTEND;TZID=UTC:20250508T170000
DTSTAMP:20260424T145723
CREATED:20250508T131514Z
LAST-MODIFIED:20250508T132507Z
UID:1042-1746691200-1746723600@fepsan.org
SUMMARY:New events here
DESCRIPTION:Oh we are hosting in a new events for all Fepsan executives
URL:https://fepsan.org/event/new-events-here/
LOCATION:Transcorp Hilton\, Aguiyi Ironsi\, Maitama\, FCT Abuja\, Nigeria
ATTACH;FMTTYPE=image/jpeg:https://fepsan.org/wp-content/uploads/2021/02/fepsan-TV-e1746710652564.jpg
END:VEVENT
END:VCALENDAR